Workbook

Sheet Start
B22: Administratietool
B25: Je bent van plan om met de Administratietool van Willem Haitsma Belastingadvies & Administratie te gaan werken.
B26: Administratiekantoor boqx 0 heeft die tool ontwikkeld toen ik daar directeur was en voldoet aan de eisen van de Belastingdienst.
B27: Het werken ermee geeft je snel inzicht in jouw bedrijfscijfers.
B29: Om deze Administratietool goed te kunnen gebruiken zijn er twee handleidingen:
B31: 1. De handleiding Administratietool legt uit wat je waar moet invullen.
B33: 2. De handleiding Bankafschriften helpt je om je bankafschriften digitaal over te nemen in je Administratietool.
B34: Die gegevens hoef je dus niet meer in te typen.
B36: Je kunt beide handleidingen downloaden op de website.
B37: https://www.willemhaitsma.nl/wij
B39: Als je nog vragen hebt, bel dan gerust of kom even langs.
B41: Veel succes!
... B51: www.willemhaitsma.nl

Sheet Verkoopboek
A2: Verkoopboek
E3: =IF(L90=0,"alles in orde","cijfers kloppen niet") -> alles in orde
A4: Betreft boekjaar: | C4: 2020
A6: Datum | B6: Opdrachtgever/omschr. | C6: Fact.nr. | D6: Omzet 21% | E6: Omzet 9% | F6: Db kstn 21% | G6: Db kstn 9% | H6: Omzet 0% | I6: Db kstn 0% | J6: Btw 21% | K6: Btw 9% | L6: Totaal | M6: Datum | N6: Herinn. | O6: Opmerkingen
A7: fact. | D7: netto | E7: netto | F7: netto | G7: netto | H7: of vrijgest. | I7: netto | M7: ontvangst
J8: =(D8+F8)/100*21 -> 0 | K8: =(E8+G8)/100*9 -> 0 | L8: =+D8+F8+J8+E8+H8+I8+G8+K8 -> 0
J9: =(D9+F9)/100*21 -> 0 | K9: =(E9+G9)/100*9 -> 0 | L9: =+D9+F9+J9+E9+H9+I9+G9+K9 -> 0
J10: =(D10+F10)/100*21 -> 0 | K10: =(E10+G10)/100*9 -> 0 | L10: =+D10+F10+J10+E10+H10+I10+G10+K10 -> 0
J11: =(D11+F11)/100*21 -> 0 | K11: =(E11+G11)/100*9 -> 0 | L11: =+D11+F11+J11+E11+H11+I11+G11+K11 -> 0
J12: =(D12+F12)/100*21 -> 0 | K12: =(E12+G12)/100*9 -> 0 | L12: =+D12+F12+J12+E12+H12+I12+G12+K12 -> 0
J13: =(D13+F13)/100*21 -> 0 | K13: =(E13+G13)/100*9 -> 0 | L13: =+D13+F13+J13+E13+H13+I13+G13+K13 -> 0
J14: =(D14+F14)/100*21 -> 0 | K14: =(E14+G14)/100*9 -> 0 | L14: =+D14+F14+J14+E14+H14+I14+G14+K14 -> 0
J15: =(D15+F15)/100*21 -> 0 | K15: =(E15+G15)/100*9 -> 0 | L15: =+D15+F15+J15+E15+H15+I15+G15+K15 -> 0
J16: =(D16+F16)/100*21 -> 0 | K16: =(E16+G16)/100*9 -> 0 | L16: =+D16+F16+J16+E16+H16+I16+G16+K16 -> 0
J17: =(D17+F17)/100*21 -> 0 | K17: =(E17+G17)/100*9 -> 0 | L17: =+D17+F17+J17+E17+H17+I17+G17+K17 -> 0
J18: =(D18+F18)/100*21 -> 0 | K18: =(E18+G18)/100*9 -> 0 | L18: =+D18+F18+J18+E18+H18+I18+G18+K18 -> 0
J19: =(D19+F19)/100*21 -> 0 | K19: =(E19+G19)/100*9 -> 0 | L19: =+D19+F19+J19+E19+H19+I19+G19+K19 -> 0
... J23: =(D23+F23)/100*21 -> 0 | K23: =(E23+G23)/100*9 -> 0 | L23: =+D23+F23+J23+E23+H23+I23+G23+K23 -> 0
A24: Hier rijen invoegen | J24: =(D24+F24)/100*21 -> 0 | K24: =(E24+G24)/100*9 -> 0 | L24: =+D24+F24+J24+E24+H24+I24+G24+K24 -> 0
A25: Subtotaal 1e kwartaal | D25: =SUM(D8:D24) -> 0 | E25: =SUM(E8:E24) -> 0 | F25: =SUM(F8:F24) -> 0 | G25: =SUM(G8:G24) -> 0 | H25: =SUM(H8:H24) -> 0 | I25: =SUM(I8:I24) -> 0 | J25: =SUM(J8:J24) -> 0 | K25: =SUM(K8:K24) -> 0 | L25: =SUM(L8:L24) -> 0
J27: =(D27+F27)/100*21 -> 0 | K27: =(E27+G27)/100*9 -> 0 | L27: =+D27+F27+J27+E27+G27+H27+I27+K27 -> 0
J28: =(D28+F28)/100*21 -> 0 | K28: =(E28+G28)/100*9 -> 0 | L28: =+D28+F28+J28+E28+G28+H28+I28+K28 -> 0
J29: =(D29+F29)/100*21 -> 0 | K29: =(E29+G29)/100*9 -> 0 | L29: =+D29+F29+J29+E29+G29+H29+I29+K29 -> 0
J30: =(D30+F30)/100*21 -> 0 | K30: =(E30+G30)/100*9 -> 0 | L30: =+D30+F30+J30+E30+G30+H30+I30+K30 -> 0
J31: =(D31+F31)/100*21 -> 0 | K31: =(E31+G31)/100*9 -> 0 | L31: =+D31+F31+J31+E31+G31+H31+I31+K31 -> 0
J32: =(D32+F32)/100*21 -> 0 | K32: =(E32+G32)/100*9 -> 0 | L32: =+D32+F32+J32+E32+G32+H32+I32+K32 -> 0
J33: =(D33+F33)/100*21 -> 0 | K33: =(E33+G33)/100*9 -> 0 | L33: =+D33+F33+J33+E33+G33+H33+I33+K33 -> 0
J34: =(D34+F34)/100*21 -> 0 | K34: =(E34+G34)/100*9 -> 0 | L34: =+D34+F34+J34+E34+G34+H34+I34+K34 -> 0
J35: =(D35+F35)/100*21 -> 0 | K35: =(E35+G35)/100*9 -> 0 | L35: =+D35+F35+J35+E35+G35+H35+I35+K35 -> 0
J36: =(D36+F36)/100*21 -> 0 | K36: =(E36+G36)/100*9 -> 0 | L36: =+D36+F36+J36+E36+G36+H36+I36+K36 -> 0
J37: =(D37+F37)/100*21 -> 0 | K37: =(E37+G37)/100*9 -> 0 | L37: =+D37+F37+J37+E37+G37+H37+I37+K37 -> 0
J38: =(D38+F38)/100*21 -> 0 | K38: =(E38+G38)/100*9 -> 0 | L38: =+D38+F38+J38+E38+G38+H38+I38+K38 -> 0
... J40: =(D40+F40)/100*21 -> 0 | K40: =(E40+G40)/100*9 -> 0 | L40: =+D40+F40+J40+E40+G40+H40+I40+K40 -> 0
A41: hier rijen invoegen | J41: =(D41+F41)/100*21 -> 0 | K41: =(E41+G41)/100*9 -> 0 | L41: =+D41+F41+J41+E41+G41+H41+I41+K41 -> 0
A42: Subtotaal 2e kwartaal | D42: =SUM(D26:D41) -> 0 | E42: =SUM(E26:E41) -> 0 | F42: =SUM(F26:F41) -> 0 | G42: =SUM(G26:G41) -> 0 | H42: =SUM(H26:H41) -> 0 | I42: =SUM(I26:I41) -> 0 | J42: =SUM(J26:J41) -> 0 | K42: =SUM(K26:K41) -> 0 | L42: =SUM(L26:L41) -> 0
J44: =(D44+F44)/100*21 -> 0 | K44: =(E44+G44)/100*9 -> 0 | L44: =+D44+F44+J44+E44+G44+H44+I44+K44 -> 0
J45: =(D45+F45)/100*21 -> 0 | K45: =(E45+G45)/100*9 -> 0 | L45: =+D45+F45+J45+E45+G45+H45+I45+K45 -> 0
J46: =(D46+F46)/100*21 -> 0 | K46: =(E46+G46)/100*9 -> 0 | L46: =+D46+F46+J46+E46+G46+H46+I46+K46 -> 0
J47: =(D47+F47)/100*21 -> 0 | K47: =(E47+G47)/100*9 -> 0 | L47: =+D47+F47+J47+E47+G47+H47+I47+K47 -> 0
J48: =(D48+F48)/100*21 -> 0 | K48: =(E48+G48)/100*9 -> 0 | L48: =+D48+F48+J48+E48+G48+H48+I48+K48 -> 0
...

Sheet Bank
A2: Bank
E3: saldo: | F3: =SUBTOTAL(9,D:D)-SUBTOTAL(9,E:E) -> 0
D5: =SUBTOTAL(9,D7:D1002) -> 0 | E5: =SUBTOTAL(9,E7:E1002) -> 0 | F5: =SUBTOTAL(9,F7:F1002) -> 0 | I5: =SUBTOTAL(9,I7:I1002) -> 0
A6: Nr. | B6: Datum | C6: Omschrijving | D6: Totaal bedrag in | E6: Totaal bedrag uit | F6: Voorbelasting / btw | G6: Rubriek | H6: Omschrijving rubriek | I6: Totaal bedrag excl. btw
B7: =CONCATENATE("01-01-"&Verkoopboek!C4) -> 01-01-2020 | C7: beginsaldo | G7: 1 | H7: =IF(ISTEXT(VLOOKUP(G7,Rubrieken!A:B,2,FALSE)),VLOOKUP(G7,Rubrieken!A:B,2,FALSE),"") -> Beginsaldo | I7: =D7-E7+F7 -> 0 | J7: =CONCATENATE(K7,L7,M7,N7,O7,P7) | K7: =IF(AND(D7=0,E7=0),"",IF(H7="","Er is nog geen rubriek ingevuld. ","")) | L7: =IF(AND(ISNUMBER(D7),ISNUMBER(E7),(D7*E7)^2>0),"Bedrag in en uit zijn beiden ingevuld. ","") | M7: =IF(AND(D7>0,ISNUMBER(F7>0)),"Geen btw bij bank inkomsten. ","") | N7: =IF(ISNUMBER(E7),IF(F7/0.182>E7,"Btw is groter dan 21%. ",""),"") | O7: =IF(I7=0,"",IF(Q7="","Geen datum ingevuld. ","")) | P7: =IF(I7<>0,IF(CONCATENATE(K7,L7,M7,N7,O7)="","Hele regel is goed!",""),"") | Q7: =IF(B7="","",CEILING(MONTH(B7)/3,1)) -> 1
H8: =IF(ISTEXT(VLOOKUP(G8,Rubrieken!A:B,2,FALSE)),VLOOKUP(G8,Rubrieken!A:B,2,FALSE),"") | I8: =D8-E8+F8 -> 0 | J8: =CONCATENATE(K8,L8,M8,N8,O8,P8) | K8: =IF(AND(D8=0,E8=0),"",IF(H8="","Er is nog geen rubriek ingevuld. ","")) | L8: =IF(AND(ISNUMBER(D8),ISNUMBER(E8),(D8*E8)^2>0),"Bedrag in en uit zijn beiden ingevuld. ","") | M8: =IF(AND(D8>0,ISNUMBER(F8>0)),"Geen btw bij bank inkomsten. ","") | N8: =IF(ISNUMBER(E8),IF(F8/0.182>E8,"Btw is groter dan 21%. ",""),"") | O8: =IF(I8=0,"",IF(Q8="","Geen datum ingevuld. ","")) | P8: =IF(I8<>0,IF(CONCATENATE(K8,L8,M8,N8,O8)="","Hele regel is goed!",""),"") | Q8: =IF(B8="","",CEILING(MONTH(B8)/3,1))
H9: =IF(ISTEXT(VLOOKUP(G9,Rubrieken!A:B,2,FALSE)),VLOOKUP(G9,Rubrieken!A:B,2,FALSE),"") | I9: =D9-E9+F9 -> 0 | J9: =CONCATENATE(K9,L9,M9,N9,O9,P9) | K9: =IF(AND(D9=0,E9=0),"",IF(H9="","Er is nog geen rubriek ingevuld. ","")) | L9: =IF(AND(ISNUMBER(D9),ISNUMBER(E9),(D9*E9)^2>0),"Bedrag in en uit zijn beiden ingevuld. ","") | M9: =IF(AND(D9>0,ISNUMBER(F9>0)),"Geen btw bij bank inkomsten. ","") | N9: =IF(ISNUMBER(E9),IF(F9/0.182>E9,"Btw is groter dan 21%. ",""),"") | O9: =IF(I9=0,"",IF(Q9="","Geen datum ingevuld. ","")) | P9: =IF(I9<>0,IF(CONCATENATE(K9,L9,M9,N9,O9)="","Hele regel is goed!",""),"") | Q9: =IF(B9="","",CEILING(MONTH(B9)/3,1))
H10: =IF(ISTEXT(VLOOKUP(G10,Rubrieken!A:B,2,FALSE)),VLOOKUP(G10,Rubrieken!A:B,2,FALSE),"") | I10: =D10-E10+F10 -> 0 | J10: =CONCATENATE(K10,L10,M10,N10,O10,P10) | K10: =IF(AND(D10=0,E10=0),"",IF(H10="","Er is nog geen rubriek ingevuld. ","")) | L10: =IF(AND(ISNUMBER(D10),ISNUMBER(E10),(D10*E10)^2>0),"Bedrag in en uit zijn beiden ingevuld. ","") | M10: =IF(AND(D10>0,ISNUMBER(F10>0)),"Geen btw bij bank inkomsten. ","") | N10: =IF(ISNUMBER(E10),IF(F10/0.182>E10,"Btw is groter dan 21%. ",""),"") | O10: =IF(I10=0,"",IF(Q10="","Geen datum ingevuld. ","")) | P10: =IF(I10<>0,IF(CONCATENATE(K10,L10,M10,N10,O10)="","Hele regel is goed!",""),"") | Q10: =IF(B10="","",CEILING(MONTH(B10)/3,1))
H11: =IF(ISTEXT(VLOOKUP(G11,Rubrieken!A:B,2,FALSE)),VLOOKUP(G11,Rubrieken!A:B,2,FALSE),"") | I11: =D11-E11+F11 -> 0 | J11: =CONCATENATE(K11,L11,M11,N11,O11,P11) | K11: =IF(AND(D11=0,E11=0),"",IF(H11="","Er is nog geen rubriek ingevuld. ","")) | L11: =IF(AND(ISNUMBER(D11),ISNUMBER(E11),(D11*E11)^2>0),"Bedrag in en uit zijn beiden ingevuld. ","") | M11: =IF(AND(D11>0,ISNUMBER(F11>0)),"Geen btw bij bank inkomsten. ","") | N11: =IF(ISNUMBER(E11),IF(F11/0.182>E11,"Btw is groter dan 21%. ",""),"") | O11: =IF(I11=0,"",IF(Q11="","Geen datum ingevuld. ","")) | P11: =IF(I11<>0,IF(CONCATENATE(K11,L11,M11,N11,O11)="","Hele regel is goed!",""),"") | Q11: =IF(B11="","",CEILING(MONTH(B11)/3,1))
H12: =IF(ISTEXT(VLOOKUP(G12,Rubrieken!A:B,2,FALSE)),VLOOKUP(G12,Rubrieken!A:B,2,FALSE),"") | I12: =D12-E12+F12 -> 0 | J12: =CONCATENATE(K12,L12,M12,N12,O12,P12) | K12: =IF(AND(D12=0,E12=0),"",IF(H12="","Er is nog geen rubriek ingevuld. ","")) | L12: =IF(AND(ISNUMBER(D12),ISNUMBER(E12),(D12*E12)^2>0),"Bedrag in en uit zijn beiden ingevuld. ","") | M12: =IF(AND(D12>0,ISNUMBER(F12>0)),"Geen btw bij bank inkomsten. ","") | N12: =IF(ISNUMBER(E12),IF(F12/0.182>E12,"Btw is groter dan 21%. ",""),"") | O12: =IF(I12=0,"",IF(Q12="","Geen datum ingevuld. ","")) | P12: =IF(I12<>0,IF(CONCATENATE(K12,L12,M12,N12,O12)="","Hele regel is goed!",""),"") | Q12: =IF(B12="","",CEILING(MONTH(B12)/3,1))
H13: =IF(ISTEXT(VLOOKUP(G13,Rubrieken!A:B,2,FALSE)),VLOOKUP(G13,Rubrieken!A:B,2,FALSE),"") | I13: =D13-E13+F13 -> 0 | J13: =CONCATENATE(K13,L13,M13,N13,O13,P13) | K13: =IF(AND(D13=0,E13=0),"",IF(H13="","Er is nog geen rubriek ingevuld. ","")) | L13: =IF(AND(ISNUMBER(D13),ISNUMBER(E13),(D13*E13)^2>0),"Bedrag in en uit zijn beiden ingevuld. ","") | M13: =IF(AND(D13>0,ISNUMBER(F13>0)),"Geen btw bij bank inkomsten. ","") | N13: =IF(ISNUMBER(E13),IF(F13/0.182>E13,"Btw is groter dan 21%. ",""),"") | O13: =IF(I13=0,"",IF(Q13="","Geen datum ingevuld. ","")) | P13: =IF(I13<>0,IF(CONCATENATE(K13,L13,M13,N13,O13)="","Hele regel is goed!",""),"") | Q13: =IF(B13="","",CEILING(MONTH(B13)/3,1))
H14: =IF(ISTEXT(VLOOKUP(G14,Rubrieken!A:B,2,FALSE)),VLOOKUP(G14,Rubrieken!A:B,2,FALSE),"") | I14: =D14-E14+F14 -> 0 | J14: =CONCATENATE(K14,L14,M14,N14,O14,P14) | K14: =IF(AND(D14=0,E14=0),"",IF(H14="","Er is nog geen rubriek ingevuld. ","")) | L14: =IF(AND(ISNUMBER(D14),ISNUMBER(E14),(D14*E14)^2>0),"Bedrag in en uit zijn beiden ingevuld. ","") | M14: =IF(AND(D14>0,ISNUMBER(F14>0)),"Geen btw bij bank inkomsten. ","") | N14: =IF(ISNUMBER(E14),IF(F14/0.182>E14,"Btw is groter dan 21%. ",""),"") | O14: =IF(I14=0,"",IF(Q14="","Geen datum ingevuld. ","")) | P14: =IF(I14<>0,IF(CONCATENATE(K14,L14,M14,N14,O14)="","Hele regel is goed!",""),"") | Q14: =IF(B14="","",CEILING(MONTH(B14)/3,1))
H15: =IF(ISTEXT(VLOOKUP(G15,Rubrieken!A:B,2,FALSE)),VLOOKUP(G15,Rubrieken!A:B,2,FALSE),"") | I15: =D15-E15+F15 -> 0 | J15: =CONCATENATE(K15,L15,M15,N15,O15,P15) | K15: =IF(AND(D15=0,E15=0),"",IF(H15="","Er is nog geen rubriek ingevuld. ","")) | L15: =IF(AND(ISNUMBER(D15),ISNUMBER(E15),(D15*E15)^2>0),"Bedrag in en uit zijn beiden ingevuld. ","") | M15: =IF(AND(D15>0,ISNUMBER(F15>0)),"Geen btw bij bank inkomsten. ","") | N15: =IF(ISNUMBER(E15),IF(F15/0.182>E15,"Btw is groter dan 21%. ",""),"") | O15: =IF(I15=0,"",IF(Q15="","Geen datum ingevuld. ","")) | P15: =IF(I15<>0,IF(CONCATENATE(K15,L15,M15,N15,O15)="","Hele regel is goed!",""),"") | Q15: =IF(B15="","",CEILING(MONTH(B15)/3,1))
H16: =IF(ISTEXT(VLOOKUP(G16,Rubrieken!A:B,2,FALSE)),VLOOKUP(G16,Rubrieken!A:B,2,FALSE),"") | I16: =D16-E16+F16 -> 0 | J16: =CONCATENATE(K16,L16,M16,N16,O16,P16) | K16: =IF(AND(D16=0,E16=0),"",IF(H16="","Er is nog geen rubriek ingevuld. ","")) | L16: =IF(AND(ISNUMBER(D16),ISNUMBER(E16),(D16*E16)^2>0),"Bedrag in en uit zijn beiden ingevuld. ","") | M16: =IF(AND(D16>0,ISNUMBER(F16>0)),"Geen btw bij bank inkomsten. ","") | N16: =IF(ISNUMBER(E16),IF(F16/0.182>E16,"Btw is groter dan 21%. ",""),"") | O16: =IF(I16=0,"",IF(Q16="","Geen datum ingevuld. ","")) | P16: =IF(I16<>0,IF(CONCATENATE(K16,L16,M16,N16,O16)="","Hele regel is goed!",""),"") | Q16: =IF(B16="","",CEILING(MONTH(B16)/3,1))
H17: =IF(ISTEXT(VLOOKUP(G17,Rubrieken!A:B,2,FALSE)),VLOOKUP(G17,Rubrieken!A:B,2,FALSE),"") | I17: =D17-E17+F17 -> 0 | J17: =CONCATENATE(K17,L17,M17,N17,O17,P17) | K17: =IF(AND(D17=0,E17=0),"",IF(H17="","Er is nog geen rubriek ingevuld. ","")) | L17: =IF(AND(ISNUMBER(D17),ISNUMBER(E17),(D17*E17)^2>0),"Bedrag in en uit zijn beiden ingevuld. ","") | M17: =IF(AND(D17>0,ISNUMBER(F17>0)),"Geen btw bij bank inkomsten. ","") | N17: =IF(ISNUMBER(E17),IF(F17/0.182>E17,"Btw is groter dan 21%. ",""),"") | O17: =IF(I17=0,"",IF(Q17="","Geen datum ingevuld. ","")) | P17: =IF(I17<>0,IF(CONCATENATE(K17,L17,M17,N17,O17)="","Hele regel is goed!",""),"") | Q17: =IF(B17="","",CEILING(MONTH(B17)/3,1))
H18: =IF(ISTEXT(VLOOKUP(G18,Rubrieken!A:B,2,FALSE)),VLOOKUP(G18,Rubrieken!A:B,2,FALSE),"") | I18: =D18-E18+F18 -> 0 | J18: =CONCATENATE(K18,L18,M18,N18,O18,P18) | K18: =IF(AND(D18=0,E18=0),"",IF(H18="","Er is nog geen rubriek ingevuld. ","")) | L18: =IF(AND(ISNUMBER(D18),ISNUMBER(E18),(D18*E18)^2>0),"Bedrag in en uit zijn beiden ingevuld. ","") | M18: =IF(AND(D18>0,ISNUMBER(F18>0)),"Geen btw bij bank inkomsten. ","") | N18: =IF(ISNUMBER(E18),IF(F18/0.182>E18,"Btw is groter dan 21%. ",""),"") | O18: =IF(I18=0,"",IF(Q18="","Geen datum ingevuld. ","")) | P18: =IF(I18<>0,IF(CONCATENATE(K18,L18,M18,N18,O18)="","Hele regel is goed!",""),"") | Q18: =IF(B18="","",CEILING(MONTH(B18)/3,1))
H19: =IF(ISTEXT(VLOOKUP(G19,Rubrieken!A:B,2,FALSE)),VLOOKUP(G19,Rubrieken!A:B,2,FALSE),"") | I19: =D19-E19+F19 -> 0 | J19: =CONCATENATE(K19,L19,M19,N19,O19,P19) | K19: =IF(AND(D19=0,E19=0),"",IF(H19="","Er is nog geen rubriek ingevuld. ","")) | L19: =IF(AND(ISNUMBER(D19),ISNUMBER(E19),(D19*E19)^2>0),"Bedrag in en uit zijn beiden ingevuld. ","") | M19: =IF(AND(D19>0,ISNUMBER(F19>0)),"Geen btw bij bank inkomsten. ","") | N19: =IF(ISNUMBER(E19),IF(F19/0.182>E19,"Btw is groter dan 21%. ",""),"") | O19: =IF(I19=0,"",IF(Q19="","Geen datum ingevuld. ","")) | P19: =IF(I19<>0,IF(CONCATENATE(K19,L19,M19,N19,O19)="","Hele regel is goed!",""),"") | Q19: =IF(B19="","",CEILING(MONTH(B19)/3,1))
... H1001: =IF(ISTEXT(VLOOKUP(G1001,Rubrieken!A:B,2,FALSE)),VLOOKUP(G1001,Rubrieken!A:B,2,FALSE),"") | I1001: =D1001-E1001+F1001 -> 0 | J1001: =CONCATENATE(K1001,L1001,M1001,N1001,O1001,P1001) | K1001: =IF(AND(D1001=0,E1001=0),"",IF(H1001="","Er is nog geen rubriek ingevuld. ","")) | L1001: =IF(AND(ISNUMBER(D1001),ISNUMBER(E1001),(D1001*E1001)^2>0),"Bedrag in en uit zijn beiden ingevuld. ","") | M1001: =IF(AND(D1001>0,ISNUMBER(F1001>0)),"Geen btw bij bank inkomsten. ","") | N1001: =IF(ISNUMBER(E1001),IF(F1001/0.182>E1001,"Btw is groter dan 21%. ",""),"") | O1001: =IF(I1001=0,"",IF(Q1001="","Geen datum ingevuld. ","")) | P1001: =IF(I1001<>0,IF(CONCATENATE(K1001,L1001,M1001,N1001,O1001)="","Hele regel is goed!",""),"") | Q1001: =IF(B1001="","",CEILING(MONTH(B1001)/3,1))
H1002: =IF(ISTEXT(VLOOKUP(G1002,Rubrieken!A:B,2,FALSE)),VLOOKUP(G1002,Rubrieken!A:B,2,FALSE),"") | I1002: =D1002-E1002+F1002 -> 0

Sheet Privé
A2: Privé
E3: saldo: | F3: =SUBTOTAL(9,D:D)-SUBTOTAL(9,E:E) -> 0
H4: Let op het afdrukbereik bij afdrukken
D5: =SUBTOTAL(9,D7:D502) -> 0 | E5: =SUBTOTAL(9,E7:E502) -> 0 | F5: =SUBTOTAL(9,F7:F502) -> 0 | I5: =SUBTOTAL(9,I7:I502) -> 0
A6: Nr. | B6: Datum | C6: Omschrijving | D6: Totaal bedrag in | E6: Totaal bedrag uit | F6: Voorbelasting / btw | G6: Rubriek | H6: Omschrijving rubriek | I6: Totaal bedrag excl. btw
H7: =IF(ISTEXT(VLOOKUP(G7,Rubrieken!A:B,2,FALSE)),VLOOKUP(G7,Rubrieken!A:B,2,FALSE),"") | I7: =D7-E7+F7 -> 0 | J7: =CONCATENATE(K7,L7,M7,N7,O7,P7) | K7: =IF(AND(D7=0,E7=0),"",IF(H7="","Er is nog geen rubriek ingevuld. ","")) | L7: =IF(AND(ISNUMBER(D7),ISNUMBER(E7),(D7*E7)^2>0),"Bedrag in en uit zijn beiden ingevuld. ","") | M7: =IF(AND(D7>0,ISNUMBER(F7)),"Geen btw bij bank inkomsten. ","") | N7: =IF(ISNUMBER(E7),IF(F7/0.182>E7,"Btw is groter dan 21%. ",""),"") | O7: =IF(I7=0,"",IF(Q7="","Geen datum ingevuld. ","")) | P7: =IF(I7<>0,IF(CONCATENATE(K7,L7,M7,N7,O7)="","Hele regel is goed!",""),"") | Q7: =IF(B7="","",CEILING(MONTH(B7)/3,1))
H8: =IF(ISTEXT(VLOOKUP(G8,Rubrieken!A:B,2,FALSE)),VLOOKUP(G8,Rubrieken!A:B,2,FALSE),"") | I8: =D8-E8+F8 -> 0 | J8: =CONCATENATE(K8,L8,M8,N8,O8,P8) | K8: =IF(AND(D8=0,E8=0),"",IF(H8="","Er is nog geen rubriek ingevuld. ","")) | L8: =IF(AND(ISNUMBER(D8),ISNUMBER(E8),(D8*E8)^2>0),"Bedrag in en uit zijn beiden ingevuld. ","") | M8: =IF(AND(D8>0,ISNUMBER(F8)),"Geen btw bij bank inkomsten. ","") | N8: =IF(ISNUMBER(E8),IF(F8/0.182>E8,"Btw is groter dan 21%. ",""),"") | O8: =IF(I8=0,"",IF(Q8="","Geen datum ingevuld. ","")) | P8: =IF(I8<>0,IF(CONCATENATE(K8,L8,M8,N8,O8)="","Hele regel is goed!",""),"") | Q8: =IF(B8="","",CEILING(MONTH(B8)/3,1))
H9: =IF(ISTEXT(VLOOKUP(G9,Rubrieken!A:B,2,FALSE)),VLOOKUP(G9,Rubrieken!A:B,2,FALSE),"") | I9: =D9-E9+F9 -> 0 | J9: =CONCATENATE(K9,L9,M9,N9,O9,P9) | K9: =IF(AND(D9=0,E9=0),"",IF(H9="","Er is nog geen rubriek ingevuld. ","")) | L9: =IF(AND(ISNUMBER(D9),ISNUMBER(E9),(D9*E9)^2>0),"Bedrag in en uit zijn beiden ingevuld. ","") | M9: =IF(AND(D9>0,ISNUMBER(F9)),"Geen btw bij bank inkomsten. ","") | N9: =IF(ISNUMBER(E9),IF(F9/0.182>E9,"Btw is groter dan 21%. ",""),"") | O9: =IF(I9=0,"",IF(Q9="","Geen datum ingevuld. ","")) | P9: =IF(I9<>0,IF(CONCATENATE(K9,L9,M9,N9,O9)="","Hele regel is goed!",""),"") | Q9: =IF(B9="","",CEILING(MONTH(B9)/3,1))
H10: =IF(ISTEXT(VLOOKUP(G10,Rubrieken!A:B,2,FALSE)),VLOOKUP(G10,Rubrieken!A:B,2,FALSE),"") | I10: =D10-E10+F10 -> 0 | J10: =CONCATENATE(K10,L10,M10,N10,O10,P10) | K10: =IF(AND(D10=0,E10=0),"",IF(H10="","Er is nog geen rubriek ingevuld. ","")) | L10: =IF(AND(ISNUMBER(D10),ISNUMBER(E10),(D10*E10)^2>0),"Bedrag in en uit zijn beiden ingevuld. ","") | M10: =IF(AND(D10>0,ISNUMBER(F10)),"Geen btw bij bank inkomsten. ","") | N10: =IF(ISNUMBER(E10),IF(F10/0.182>E10,"Btw is groter dan 21%. ",""),"") | O10: =IF(I10=0,"",IF(Q10="","Geen datum ingevuld. ","")) | P10: =IF(I10<>0,IF(CONCATENATE(K10,L10,M10,N10,O10)="","Hele regel is goed!",""),"") | Q10: =IF(B10="","",CEILING(MONTH(B10)/3,1))
H11: =IF(ISTEXT(VLOOKUP(G11,Rubrieken!A:B,2,FALSE)),VLOOKUP(G11,Rubrieken!A:B,2,FALSE),"") | I11: =D11-E11+F11 -> 0 | J11: =CONCATENATE(K11,L11,M11,N11,O11,P11) | K11: =IF(AND(D11=0,E11=0),"",IF(H11="","Er is nog geen rubriek ingevuld. ","")) | L11: =IF(AND(ISNUMBER(D11),ISNUMBER(E11),(D11*E11)^2>0),"Bedrag in en uit zijn beiden ingevuld. ","") | M11: =IF(AND(D11>0,ISNUMBER(F11)),"Geen btw bij bank inkomsten. ","") | N11: =IF(ISNUMBER(E11),IF(F11/0.182>E11,"Btw is groter dan 21%. ",""),"") | O11: =IF(I11=0,"",IF(Q11="","Geen datum ingevuld. ","")) | P11: =IF(I11<>0,IF(CONCATENATE(K11,L11,M11,N11,O11)="","Hele regel is goed!",""),"") | Q11: =IF(B11="","",CEILING(MONTH(B11)/3,1))
H12: =IF(ISTEXT(VLOOKUP(G12,Rubrieken!A:B,2,FALSE)),VLOOKUP(G12,Rubrieken!A:B,2,FALSE),"") | I12: =D12-E12+F12 -> 0 | J12: =CONCATENATE(K12,L12,M12,N12,O12,P12) | K12: =IF(AND(D12=0,E12=0),"",IF(H12="","Er is nog geen rubriek ingevuld. ","")) | L12: =IF(AND(ISNUMBER(D12),ISNUMBER(E12),(D12*E12)^2>0),"Bedrag in en uit zijn beiden ingevuld. ","") | M12: =IF(AND(D12>0,ISNUMBER(F12)),"Geen btw bij bank inkomsten. ","") | N12: =IF(ISNUMBER(E12),IF(F12/0.182>E12,"Btw is groter dan 21%. ",""),"") | O12: =IF(I12=0,"",IF(Q12="","Geen datum ingevuld. ","")) | P12: =IF(I12<>0,IF(CONCATENATE(K12,L12,M12,N12,O12)="","Hele regel is goed!",""),"") | Q12: =IF(B12="","",CEILING(MONTH(B12)/3,1))
H13: =IF(ISTEXT(VLOOKUP(G13,Rubrieken!A:B,2,FALSE)),VLOOKUP(G13,Rubrieken!A:B,2,FALSE),"") | I13: =D13-E13+F13 -> 0 | J13: =CONCATENATE(K13,L13,M13,N13,O13,P13) | K13: =IF(AND(D13=0,E13=0),"",IF(H13="","Er is nog geen rubriek ingevuld. ","")) | L13: =IF(AND(ISNUMBER(D13),ISNUMBER(E13),(D13*E13)^2>0),"Bedrag in en uit zijn beiden ingevuld. ","") | M13: =IF(AND(D13>0,ISNUMBER(F13)),"Geen btw bij bank inkomsten. ","") | N13: =IF(ISNUMBER(E13),IF(F13/0.182>E13,"Btw is groter dan 21%. ",""),"") | O13: =IF(I13=0,"",IF(Q13="","Geen datum ingevuld. ","")) | P13: =IF(I13<>0,IF(CONCATENATE(K13,L13,M13,N13,O13)="","Hele regel is goed!",""),"") | Q13: =IF(B13="","",CEILING(MONTH(B13)/3,1))
H14: =IF(ISTEXT(VLOOKUP(G14,Rubrieken!A:B,2,FALSE)),VLOOKUP(G14,Rubrieken!A:B,2,FALSE),"") | I14: =D14-E14+F14 -> 0 | J14: =CONCATENATE(K14,L14,M14,N14,O14,P14) | K14: =IF(AND(D14=0,E14=0),"",IF(H14="","Er is nog geen rubriek ingevuld. ","")) | L14: =IF(AND(ISNUMBER(D14),ISNUMBER(E14),(D14*E14)^2>0),"Bedrag in en uit zijn beiden ingevuld. ","") | M14: =IF(AND(D14>0,ISNUMBER(F14)),"Geen btw bij bank inkomsten. ","") | N14: =IF(ISNUMBER(E14),IF(F14/0.182>E14,"Btw is groter dan 21%. ",""),"") | O14: =IF(I14=0,"",IF(Q14="","Geen datum ingevuld. ","")) | P14: =IF(I14<>0,IF(CONCATENATE(K14,L14,M14,N14,O14)="","Hele regel is goed!",""),"") | Q14: =IF(B14="","",CEILING(MONTH(B14)/3,1))
H15: =IF(ISTEXT(VLOOKUP(G15,Rubrieken!A:B,2,FALSE)),VLOOKUP(G15,Rubrieken!A:B,2,FALSE),"") | I15: =D15-E15+F15 -> 0 | J15: =CONCATENATE(K15,L15,M15,N15,O15,P15) | K15: =IF(AND(D15=0,E15=0),"",IF(H15="","Er is nog geen rubriek ingevuld. ","")) | L15: =IF(AND(ISNUMBER(D15),ISNUMBER(E15),(D15*E15)^2>0),"Bedrag in en uit zijn beiden ingevuld. ","") | M15: =IF(AND(D15>0,ISNUMBER(F15)),"Geen btw bij bank inkomsten. ","") | N15: =IF(ISNUMBER(E15),IF(F15/0.182>E15,"Btw is groter dan 21%. ",""),"") | O15: =IF(I15=0,"",IF(Q15="","Geen datum ingevuld. ","")) | P15: =IF(I15<>0,IF(CONCATENATE(K15,L15,M15,N15,O15)="","Hele regel is goed!",""),"") | Q15: =IF(B15="","",CEILING(MONTH(B15)/3,1))
H16: =IF(ISTEXT(VLOOKUP(G16,Rubrieken!A:B,2,FALSE)),VLOOKUP(G16,Rubrieken!A:B,2,FALSE),"") | I16: =D16-E16+F16 -> 0 | J16: =CONCATENATE(K16,L16,M16,N16,O16,P16) | K16: =IF(AND(D16=0,E16=0),"",IF(H16="","Er is nog geen rubriek ingevuld. ","")) | L16: =IF(AND(ISNUMBER(D16),ISNUMBER(E16),(D16*E16)^2>0),"Bedrag in en uit zijn beiden ingevuld. ","") | M16: =IF(AND(D16>0,ISNUMBER(F16)),"Geen btw bij bank inkomsten. ","") | N16: =IF(ISNUMBER(E16),IF(F16/0.182>E16,"Btw is groter dan 21%. ",""),"") | O16: =IF(I16=0,"",IF(Q16="","Geen datum ingevuld. ","")) | P16: =IF(I16<>0,IF(CONCATENATE(K16,L16,M16,N16,O16)="","Hele regel is goed!",""),"") | Q16: =IF(B16="","",CEILING(MONTH(B16)/3,1))
H17: =IF(ISTEXT(VLOOKUP(G17,Rubrieken!A:B,2,FALSE)),VLOOKUP(G17,Rubrieken!A:B,2,FALSE),"") | I17: =D17-E17+F17 -> 0 | J17: =CONCATENATE(K17,L17,M17,N17,O17,P17) | K17: =IF(AND(D17=0,E17=0),"",IF(H17="","Er is nog geen rubriek ingevuld. ","")) | L17: =IF(AND(ISNUMBER(D17),ISNUMBER(E17),(D17*E17)^2>0),"Bedrag in en uit zijn beiden ingevuld. ","") | M17: =IF(AND(D17>0,ISNUMBER(F17)),"Geen btw bij bank inkomsten. ","") | N17: =IF(ISNUMBER(E17),IF(F17/0.182>E17,"Btw is groter dan 21%. ",""),"") | O17: =IF(I17=0,"",IF(Q17="","Geen datum ingevuld. ","")) | P17: =IF(I17<>0,IF(CONCATENATE(K17,L17,M17,N17,O17)="","Hele regel is goed!",""),"") | Q17: =IF(B17="","",CEILING(MONTH(B17)/3,1))
H18: =IF(ISTEXT(VLOOKUP(G18,Rubrieken!A:B,2,FALSE)),VLOOKUP(G18,Rubrieken!A:B,2,FALSE),"") | I18: =D18-E18+F18 -> 0 | J18: =CONCATENATE(K18,L18,M18,N18,O18,P18) | K18: =IF(AND(D18=0,E18=0),"",IF(H18="","Er is nog geen rubriek ingevuld. ","")) | L18: =IF(AND(ISNUMBER(D18),ISNUMBER(E18),(D18*E18)^2>0),"Bedrag in en uit zijn beiden ingevuld. ","") | M18: =IF(AND(D18>0,ISNUMBER(F18)),"Geen btw bij bank inkomsten. ","") | N18: =IF(ISNUMBER(E18),IF(F18/0.182>E18,"Btw is groter dan 21%. ",""),"") | O18: =IF(I18=0,"",IF(Q18="","Geen datum ingevuld. ","")) | P18: =IF(I18<>0,IF(CONCATENATE(K18,L18,M18,N18,O18)="","Hele regel is goed!",""),"") | Q18: =IF(B18="","",CEILING(MONTH(B18)/3,1))
... H502: =IF(ISTEXT(VLOOKUP(G502,Rubrieken!A:B,2,FALSE)),VLOOKUP(G502,Rubrieken!A:B,2,FALSE),"") | I502: =D502-E502+F502 -> 0 | J502: =CONCATENATE(K502,L502,M502,N502,O502,P502) | K502: =IF(AND(D502=0,E502=0),"",IF(H502="","Er is nog geen rubriek ingevuld. ","")) | L502: =IF(AND(ISNUMBER(D502),ISNUMBER(E502),(D502*E502)^2>0),"Bedrag in en uit zijn beiden ingevuld. ","") | M502: =IF(AND(D502>0,ISNUMBER(F502)),"Geen btw bij bank inkomsten. ","") | N502: =IF(ISNUMBER(E502),IF(F502/0.182>E502,"Btw is groter dan 21%. ",""),"") | O502: =IF(I502=0,"",IF(Q502="","Geen datum ingevuld. ","")) | P502: =IF(I502<>0,IF(CONCATENATE(K502,L502,M502,N502,O502)="","Hele regel is goed!",""),"") | Q502: =IF(B502="","",CEILING(MONTH(B502)/3,1))

Sheet Rubrieken
A2: Rubrieken
C4: Totaal bedragen excl. btw | G4: Btw / voorbelasting
A6: Controle getallen, beide 0 is oké | C6: =SUM(C10:C48)-Bank!F3-SUBTOTAL(9,Bank!F:F) -> 0 | D6: =SUM(D10:D48)-Privé!F3-SUBTOTAL(9,Privé!F:F) -> 0
A8: Rubriek | B8: Omschrijving | C8: Bank | D8: Privé | E8: Totaal | G8: Bank | H8: Privé | I8: Totaal
A9: # | C9: € | D9: € | E9: € | G9: € | H9: € | I9: €
A10: 1 | B10: Beginsaldo | C10: =SUMIF(Bank!G:G,A10,Bank!I:I) -> 0 | D10: =SUMIF(Privé!G:G,A10,Privé!I:I) -> 0 | E10: =SUM(C10:D10) -> 0 | G10: =SUMIF(Bank!G:G,A10,Bank!F:F) -> 0 | H10: =SUMIF(Privé!G:G,A10,Privé!F:F) -> 0 | I10: =SUM(G10:H10) -> 0
A11: 2 | B11: Debiteuren | C11: =SUMIF(Bank!G:G,A11,Bank!I:I) -> 0 | D11: =SUMIF(Privé!G:G,A11,Privé!I:I) -> 0 | E11: =SUM(C11:D11) -> 0 | G11: =SUMIF(Bank!G:G,A11,Bank!F:F) -> 0 | H11: =SUMIF(Privé!G:G,A11,Privé!F:F) -> 0 | I11: =SUM(G11:H11) -> 0
A12: 3 | B12: Debiteuren vorig jaar | C12: =SUMIF(Bank!G:G,A12,Bank!I:I) -> 0 | D12: =SUMIF(Privé!G:G,A12,Privé!I:I) -> 0 | E12: =SUM(C12:D12) -> 0 | G12: =SUMIF(Bank!G:G,A12,Bank!F:F) -> 0 | H12: =SUMIF(Privé!G:G,A12,Privé!F:F) -> 0 | I12: =SUM(G12:H12) -> 0
A13: 4 | B13: Privé uitgaven & -ontvangsten | C13: =SUMIF(Bank!G:G,A13,Bank!I:I) -> 0 | D13: =SUMIF(Privé!G:G,A13,Privé!I:I) -> 0 | E13: =SUM(C13:D13) -> 0 | G13: =SUMIF(Bank!G:G,A13,Bank!F:F) -> 0 | H13: =SUMIF(Privé!G:G,A13,Privé!F:F) -> 0 | I13: =SUM(G13:H13) -> 0
A14: 5 | B14: Van & naar spaarrekening | C14: =SUMIF(Bank!G:G,A14,Bank!I:I) -> 0 | D14: =SUMIF(Privé!G:G,A14,Privé!I:I) -> 0 | E14: =SUM(C14:D14) -> 0 | G14: =SUMIF(Bank!G:G,A14,Bank!F:F) -> 0 | H14: =SUMIF(Privé!G:G,A14,Privé!F:F) -> 0 | I14: =SUM(G14:H14) -> 0
A15: 6 | B15: Btw ontvangsten & afdrachten | C15: =SUMIF(Bank!G:G,A15,Bank!I:I) -> 0 | D15: =SUMIF(Privé!G:G,A15,Privé!I:I) -> 0 | E15: =SUM(C15:D15) -> 0 | G15: =SUMIF(Bank!G:G,A15,Bank!F:F) -> 0 | H15: =SUMIF(Privé!G:G,A15,Privé!F:F) -> 0 | I15: =SUM(G15:H15) -> 0
A16: 7 | B16: Inkomstenbelasting / ZVW | C16: =SUMIF(Bank!G:G,A16,Bank!I:I) -> 0 | D16: =SUMIF(Privé!G:G,A16,Privé!I:I) -> 0 | E16: =SUM(C16:D16) -> 0 | G16: =SUMIF(Bank!G:G,A16,Bank!F:F) -> 0 | H16: =SUMIF(Privé!G:G,A16,Privé!F:F) -> 0 | I16: =SUM(G16:H16) -> 0
A17: 8 | B17: Overige inkomsten | C17: =SUMIF(Bank!G:G,A17,Bank!I:I) -> 0 | D17: =SUMIF(Privé!G:G,A17,Privé!I:I) -> 0 | E17: =SUM(C17:D17) -> 0 | G17: =SUMIF(Bank!G:G,A17,Bank!F:F) -> 0 | H17: =SUMIF(Privé!G:G,A17,Privé!F:F) -> 0 | I17: =SUM(G17:H17) -> 0
A18: 9 | B18: Investeringen ( minimaal € 450 ) | C18: =SUMIF(Bank!G:G,A18,Bank!I:I) -> 0 | D18: =SUMIF(Privé!G:G,A18,Privé!I:I) -> 0 | E18: =SUM(C18:D18) -> 0 | G18: =SUMIF(Bank!G:G,A18,Bank!F:F) -> 0 | H18: =SUMIF(Privé!G:G,A18,Privé!F:F) -> 0 | I18: =SUM(G18:H18) -> 0
A19: 10 | B19: Materiaal (directe kosten) | C19: =SUMIF(Bank!G:G,A19,Bank!I:I) -> 0 | D19: =SUMIF(Privé!G:G,A19,Privé!I:I) -> 0 | E19: =SUM(C19:D19) -> 0 | G19: =SUMIF(Bank!G:G,A19,Bank!F:F) -> 0 | H19: =SUMIF(Privé!G:G,A19,Privé!F:F) -> 0 | I19: =SUM(G19:H19) -> 0
A20: 11 | B20: Werk derden | C20: =SUMIF(Bank!G:G,A20,Bank!I:I) -> 0 | D20: =SUMIF(Privé!G:G,A20,Privé!I:I) -> 0 | E20: =SUM(C20:D20) -> 0 | G20: =SUMIF(Bank!G:G,A20,Bank!F:F) -> 0 | H20: =SUMIF(Privé!G:G,A20,Privé!F:F) -> 0 | I20: =SUM(G20:H20) -> 0
A21: 12 | B21: Personeelskosten | C21: =SUMIF(Bank!G:G,A21,Bank!I:I) -> 0 | D21: =SUMIF(Privé!G:G,A21,Privé!I:I) -> 0 | E21: =SUM(C21:D21) -> 0 | G21: =SUMIF(Bank!G:G,A21,Bank!F:F) -> 0 | H21: =SUMIF(Privé!G:G,A21,Privé!F:F) -> 0 | I21: =SUM(G21:H21) -> 0
... A40: 31 | B40: Renteopbrengsten | C40: =SUMIF(Bank!G:G,A40,Bank!I:I) -> 0 | D40: =SUMIF(Privé!G:G,A40,Privé!I:I) -> 0 | E40: =SUM(C40:D40) -> 0 | G40: =SUMIF(Bank!G:G,A40,Bank!F:F) -> 0 | H40: =SUMIF(Privé!G:G,A40,Privé!F:F) -> 0 | I40: =SUM(G40:H40) -> 0
A41: 32 | C41: =SUMIF(Bank!G:G,A41,Bank!I:I) -> 0 | D41: =SUMIF(Privé!G:G,A41,Privé!I:I) -> 0 | E41: =SUM(C41:D41) -> 0 | G41: =SUMIF(Bank!G:G,A41,Bank!F:F) -> 0 | H41: =SUMIF(Privé!G:G,A41,Privé!F:F) -> 0 | I41: =SUM(G41:H41) -> 0
A42: 33 | C42: =SUMIF(Bank!G:G,A42,Bank!I:I) -> 0 | D42: =SUMIF(Privé!G:G,A42,Privé!I:I) -> 0 | E42: =SUM(C42:D42) -> 0 | G42: =SUMIF(Bank!G:G,A42,Bank!F:F) -> 0 | H42: =SUMIF(Privé!G:G,A42,Privé!F:F) -> 0 | I42: =SUM(G42:H42) -> 0
A43: 34 | C43: =SUMIF(Bank!G:G,A43,Bank!I:I) -> 0 | D43: =SUMIF(Privé!G:G,A43,Privé!I:I) -> 0 | E43: =SUM(C43:D43) -> 0 | G43: =SUMIF(Bank!G:G,A43,Bank!F:F) -> 0 | H43: =SUMIF(Privé!G:G,A43,Privé!F:F) -> 0 | I43: =SUM(G43:H43) -> 0
A44: 35 | C44: =SUMIF(Bank!G:G,A44,Bank!I:I) -> 0 | D44: =SUMIF(Privé!G:G,A44,Privé!I:I) -> 0 | E44: =SUM(C44:D44) -> 0 | G44: =SUMIF(Bank!G:G,A44,Bank!F:F) -> 0 | H44: =SUMIF(Privé!G:G,A44,Privé!F:F) -> 0 | I44: =SUM(G44:H44) -> 0
A45: 36 | C45: =SUMIF(Bank!G:G,A45,Bank!I:I) -> 0 | D45: =SUMIF(Privé!G:G,A45,Privé!I:I) -> 0 | E45: =SUM(C45:D45) -> 0 | G45: =SUMIF(Bank!G:G,A45,Bank!F:F) -> 0 | H45: =SUMIF(Privé!G:G,A45,Privé!F:F) -> 0 | I45: =SUM(G45:H45) -> 0
A46: 37 | C46: =SUMIF(Bank!G:G,A46,Bank!I:I) -> 0 | D46: =SUMIF(Privé!G:G,A46,Privé!I:I) -> 0 | E46: =SUM(C46:D46) -> 0 | G46: =SUMIF(Bank!G:G,A46,Bank!F:F) -> 0 | H46: =SUMIF(Privé!G:G,A46,Privé!F:F) -> 0 | I46: =SUM(G46:H46) -> 0
A47: 38 | C47: =SUMIF(Bank!G:G,A47,Bank!I:I) -> 0 | D47: =SUMIF(Privé!G:G,A47,Privé!I:I) -> 0 | E47: =SUM(C47:D47) -> 0 | G47: =SUMIF(Bank!G:G,A47,Bank!F:F) -> 0 | H47: =SUMIF(Privé!G:G,A47,Privé!F:F) -> 0 | I47: =SUM(G47:H47) -> 0
A48: 39 | C48: =SUMIF(Bank!G:G,A48,Bank!I:I) -> 0 | D48: =SUMIF(Privé!G:G,A48,Privé!I:I) -> 0 | E48: =SUM(C48:D48) -> 0 | G48: =SUMIF(Bank!G:G,A48,Bank!F:F) -> 0 | H48: =SUMIF(Privé!G:G,A48,Privé!F:F) -> 0 | I48: =SUM(G48:H48) -> 0

Sheet Btw aangiften
A2: Overzicht btw aangiften
B6: 1e kw. | D6: 2e kw. | F6: 3e kw. | H6: 4e kw. | J6: Totaal | L6: Jaarrekening
B7: Omzet | C7: Btw | D7: Omzet | E7: Btw | F7: Omzet | G7: Btw | H7: Omzet | I7: Btw | J7: Omzet | K7: Btw | L7: Omzet | M7: Btw
A9: 1a. Omzet 21 % | B9: =Verkoopboek!D82+Verkoopboek!F82 -> 0 | C9: =Verkoopboek!J82 -> 0 | D9: =Verkoopboek!D83+Verkoopboek!F83 -> 0 | E9: =Verkoopboek!J83 -> 0 | F9: =Verkoopboek!D84+Verkoopboek!F84 -> 0 | G9: =Verkoopboek!J84 -> 0 | H9: =Verkoopboek!D85+Verkoopboek!F85 -> 0 | I9: =Verkoopboek!J85 -> 0 | J9: =B9+D9+F9+H9 -> 0 | K9: =C9+E9+G9+I9 -> 0
A10: 1b. Omzet 9 % | B10: =Verkoopboek!E82+Verkoopboek!G82 -> 0 | C10: =Verkoopboek!K82 -> 0 | D10: =Verkoopboek!E83+Verkoopboek!G83 -> 0 | E10: =Verkoopboek!K83 -> 0 | F10: =Verkoopboek!E84+Verkoopboek!G84 -> 0 | G10: =Verkoopboek!K84 -> 0 | H10: =Verkoopboek!E85+Verkoopboek!G85 -> 0 | I10: =Verkoopboek!K85 -> 0 | J10: =B10+D10+F10+H10 -> 0 | K10: =C10+E10+G10+I10 -> 0
A11: 1c. Overige tarieven | J11: =B11+D11+F11+H11 -> 0 | K11: =C11+E11+G11+I11 -> 0
A12: 1d. Privégebruik | J12: =B12+D12+F12+H12 -> 0 | K12: =C12+E12+G12+I12 -> 0
A13: 1e. 0 % / niet bij mij | J13: =B13+D13+F13+H13 -> 0
A15: Vrijgestelde omzet | J15: =B15+D15+F15+H15 -> 0
A17: 2a. Verlegd naar mij | J17: =B17+D17+F17+H17 -> 0 | K17: =C17+E17+G17+I17 -> 0
A19: 3a. Leveringen buiten EU | J19: =B19+D19+F19+H19 -> 0
A20: 3b. Leveringen binnen EU | J20: =B20+D20+F20+H20 -> 0
A21: 3c. Install.-/afstandsverkopen | J21: =B21+D21+F21+H21 -> 0
A23: 4a. Verwervingen buiten EU | J23: =B23+D23+F23+H23 -> 0 | K23: =C23+E23+G23+I23 -> 0
A24: 4b. Verwervingen binnen EU | J24: =B24+D24+F24+H24 -> 0 | K24: =C24+E24+G24+I24 -> 0
A27: 5a. Verschuldigde ob | C27: =SUM(C9:C12)+C17+C23+C24 -> 0 | E27: =SUM(E9:E12)+E17+E23+E24 -> 0 | G27: =SUM(G9:G12)+G17+G23+G24 -> 0 | I27: =SUM(I9:I12)+I17+I23+I24 -> 0 | K27: =SUM(K9:K12)+K17 -> 0 | M27: =SUM(M9:M12)+M17 -> 0
A29: 5b. Voorbelasting | C29: =SUMIF(Bank!Q:Q,1,Bank!F:F)+SUMIF(Privé!Q:Q,1,Privé!F:F) -> 0 | E29: =SUMIF(Bank!Q:Q,2,Bank!F:F)+SUMIF(Privé!Q:Q,2,Privé!F:F) -> 0 | G29: =SUMIF(Bank!Q:Q,3,Bank!F:F)+SUMIF(Privé!Q:Q,3,Privé!F:F) -> 0 | I29: =SUMIF(Bank!Q:Q,4,Bank!F:F)+SUMIF(Privé!Q:Q,4,Privé!F:F) -> 0 | K29: =C29+E29+G29+I29 -> 0
A31: 5c. Subtotaal | C31: =C27-C29 -> 0 | E31: =E27-E29 -> 0 | G31: =G27-G29 -> 0 | I31: =I27-I29 -> 0 | K31: =K27-K29 -> 0 | M31: =M27-M29 -> 0
A33: 5d. Vermind. kleineondernemersregeling | K33: =C33+E33+G33+I33 -> 0
A35: 5g. Te betalen / te ontvangen (-) | C35: =C31-C33 -> 0 | E35: =E31-E33 -> 0 | G35: =G31-G33 -> 0 | I35: =I31-I33 -> 0 | K35: =K31-K33 -> 0 | M35: =M31-M33 -> 0

Sheet Winst & verliesrekening
B2: Winst- en verliesrekening
B4: Vul in de blauwe kantlijn een rubrieknummer in om de bijbehorende
B5: rubriek aan de kosten toe te voegen
B7: Omzet
C8: omzet 21% | G8: =Verkoopboek!D86 -> 0
C9: omzet 6% | G9: =Verkoopboek!E86 -> 0
C10: omzet 0% of vrijgesteld | G10: =Verkoopboek!H86 -> 0
H11: =SUM(G8:G10) -> 0
B13: Doorbelaste omzet
C14: db omzet 21% | G14: =Verkoopboek!F86 -> 0
C15: db omzet 6% | G15: =Verkoopboek!G86 -> 0
C16: db omzet 0% of vrijgesteld | G16: =Verkoopboek!I86 -> 0
H17: =SUM(G14:G16) -> 0
B19: Kosten
A20: 10 | C20: =IF(ISNUMBER(A20),VLOOKUP(A20,Rubrieken!A:B,2,FALSE),"") -> Materiaal (directe kosten) | G20: =IF(ISNUMBER(A20),VLOOKUP(A20,Rubrieken!A:E,5,FALSE),"") -> 0
A21: 11 | C21: =IF(ISNUMBER(A21),VLOOKUP(A21,Rubrieken!A:B,2,FALSE),"") -> Werk derden | G21: =IF(ISNUMBER(A21),VLOOKUP(A21,Rubrieken!A:E,5,FALSE),"") -> 0
A22: 12 | C22: =IF(ISNUMBER(A22),VLOOKUP(A22,Rubrieken!A:B,2,FALSE),"") -> Personeelskosten | G22: =IF(ISNUMBER(A22),VLOOKUP(A22,Rubrieken!A:E,5,FALSE),"") -> 0
A23: 13 | C23: =IF(ISNUMBER(A23),VLOOKUP(A23,Rubrieken!A:B,2,FALSE),"") -> Autokosten | G23: =IF(ISNUMBER(A23),VLOOKUP(A23,Rubrieken!A:E,5,FALSE),"") -> 0
A24: 14 | C24: =IF(ISNUMBER(A24),VLOOKUP(A24,Rubrieken!A:B,2,FALSE),"") -> Openbaar vervoer | G24: =IF(ISNUMBER(A24),VLOOKUP(A24,Rubrieken!A:E,5,FALSE),"") -> 0
A25: 15 | C25: =IF(ISNUMBER(A25),VLOOKUP(A25,Rubrieken!A:B,2,FALSE),"") -> Overige reiskosten | G25: =IF(ISNUMBER(A25),VLOOKUP(A25,Rubrieken!A:E,5,FALSE),"") -> 0
A26: 16 | C26: =IF(ISNUMBER(A26),VLOOKUP(A26,Rubrieken!A:B,2,FALSE),"") -> Huisvesting (huur) | G26: =IF(ISNUMBER(A26),VLOOKUP(A26,Rubrieken!A:E,5,FALSE),"") -> 0
A27: 17 | C27: =IF(ISNUMBER(A27),VLOOKUP(A27,Rubrieken!A:B,2,FALSE),"") -> Overige huisvestingslasten | G27: =IF(ISNUMBER(A27),VLOOKUP(A27,Rubrieken!A:E,5,FALSE),"") -> 0
A28: 18 | C28: =IF(ISNUMBER(A28),VLOOKUP(A28,Rubrieken!A:B,2,FALSE),"") -> Promotiekosten | G28: =IF(ISNUMBER(A28),VLOOKUP(A28,Rubrieken!A:E,5,FALSE),"") -> 0
A29: 19 | C29: =IF(ISNUMBER(A29),VLOOKUP(A29,Rubrieken!A:B,2,FALSE),"") -> Representatiekosten | G29: =IF(ISNUMBER(A29),VLOOKUP(A29,Rubrieken!A:E,5,FALSE),"") -> 0
A30: 20 | C30: =IF(ISNUMBER(A30),VLOOKUP(A30,Rubrieken!A:B,2,FALSE),"") -> Kleine aanschaffingen | G30: =IF(ISNUMBER(A30),VLOOKUP(A30,Rubrieken!A:E,5,FALSE),"") -> 0
A31: 21 | C31: =IF(ISNUMBER(A31),VLOOKUP(A31,Rubrieken!A:B,2,FALSE),"") -> Kantoormateriaal | G31: =IF(ISNUMBER(A31),VLOOKUP(A31,Rubrieken!A:E,5,FALSE),"") -> 0
... A41: 31 | C41: =IF(ISNUMBER(A41),VLOOKUP(A41,Rubrieken!A:B,2,FALSE),"") -> Renteopbrengsten | G41: =IF(ISNUMBER(A41),VLOOKUP(A41,Rubrieken!A:E,5,FALSE),"") -> 0
A42: =IF(Rubrieken!B41="","",Rubrieken!A41) | C42: =IF(ISNUMBER(A42),VLOOKUP(A42,Rubrieken!A:B,2,FALSE),"") | G42: =IF(ISNUMBER(A42),VLOOKUP(A42,Rubrieken!A:E,5,FALSE),"")
A43: =IF(Rubrieken!B42="","",Rubrieken!A42) | C43: =IF(ISNUMBER(A43),VLOOKUP(A43,Rubrieken!A:B,2,FALSE),"") | G43: =IF(ISNUMBER(A43),VLOOKUP(A43,Rubrieken!A:E,5,FALSE),"")
A44: =IF(Rubrieken!B43="","",Rubrieken!A43) | C44: =IF(ISNUMBER(A44),VLOOKUP(A44,Rubrieken!A:B,2,FALSE),"") | G44: =IF(ISNUMBER(A44),VLOOKUP(A44,Rubrieken!A:E,5,FALSE),"")
A45: =IF(Rubrieken!B44="","",Rubrieken!A44) | C45: =IF(ISNUMBER(A45),VLOOKUP(A45,Rubrieken!A:B,2,FALSE),"") | G45: =IF(ISNUMBER(A45),VLOOKUP(A45,Rubrieken!A:E,5,FALSE),"")
A46: =IF(Rubrieken!B45="","",Rubrieken!A45) | C46: =IF(ISNUMBER(A46),VLOOKUP(A46,Rubrieken!A:B,2,FALSE),"") | G46: =IF(ISNUMBER(A46),VLOOKUP(A46,Rubrieken!A:E,5,FALSE),"")
A47: =IF(Rubrieken!B46="","",Rubrieken!A46) | C47: =IF(ISNUMBER(A47),VLOOKUP(A47,Rubrieken!A:B,2,FALSE),"") | G47: =IF(ISNUMBER(A47),VLOOKUP(A47,Rubrieken!A:E,5,FALSE),"")
A48: =IF(Rubrieken!B47="","",Rubrieken!A47) | C48: =IF(ISNUMBER(A48),VLOOKUP(A48,Rubrieken!A:B,2,FALSE),"") | G48: =IF(ISNUMBER(A48),VLOOKUP(A48,Rubrieken!A:E,5,FALSE),"")
H49: =SUM(G20:G48) -> 0
B51: Resultaat | H51: =SUM(H6:H50) -> 0

Sheet Eindejaars
A1: Eindejaars
A4: 1. Crediteuren | F4: =IF(C18=0,"alles in orde","cijfers kloppen niet") -> alles in orde
A5: = nog te betalen, reeds ontvangen facturen per 31-12
A7: Factuur | D7: Btw 100% | E7: Btw n rato
A8: datum | B8: Omschrijving | C8: Totaal uit | D8: aftrekbaar | E8: (op alg kst) | F8: Kosten | G8: Kosten | H8: Kosten | I8: Kosten | J8: Kosten | L8: Overig | M8: Omschr.
A9: 43462 | B9: voorbeeld | C9: 363 | D9: 63 | F9: 300
A15: Hier rijen invoegen
A16: Totalen | C16: =SUM(C9:C15) -> 363 | D16: =SUM(D9:D15) -> 63 | E16: =SUM(E9:E15) -> 0 | F16: =SUM(F9:F15) -> 300 | G16: =SUM(G9:G15) -> 0 | H16: =SUM(H9:H15) -> 0 | I16: =SUM(I9:I15) -> 0 | J16: =SUM(J9:J15) -> 0 | ... L16: =SUM(L9:L15) -> 0
A17: Check | C17: =SUM(D16:K16) -> 363
C18: =C16-C17 -> 0
A21: 2. Nog te ontvangen crediteuren-facturen | F21: =IF(C35=0,"alles in orde","cijfers kloppen niet") -> alles in orde
A22: = Nog te betalen kosten m.b.t. het in dit boekjaar verrichte werk
A23: waarvan de factuur pas in het volgende boekjaar wordt ontvangen
C25: Totaal
A26: Omschrijving | C26: ex btw | F26: Kosten | G26: Kosten | H26: Kosten | I26: Kosten | J26: Kosten | L26: Overig | M26: Omschr.
A27: Voorbeeld | C27: 500 | F27: 500
A32: Hier rijen invoegen
A33: Totalen | C33: =SUM(C26:C32) -> 500 | F33: =SUM(F26:F32) -> 500 | G33: =SUM(G26:G32) -> 0 | H33: =SUM(H26:H32) -> 0 | I33: =SUM(I26:I32) -> 0 | J33: =SUM(J26:J32) -> 0 | K33: =SUM(K26:K32) -> 0 | L33: =SUM(L26:L32) -> 0
A34: Check | C34: =SUM(D33:K33) -> 500
C35: =C33-C34 -> 0
A38: 3. Onderhanden werk | F38: =IF(C51=0,"alles in orde","cijfers kloppen niet") -> alles in orde
A39: = Nog te factureren, reeds verricht werk
A41: Opdrachtgever/omschrijving | C41: Totaal | D41: Omzet 21% | E41: Omzet | F41: db kstn 21% | G41: db kstn
D42: netto | E42: vrijg. | F42: netto | G42: vrijg.
A43: Voorbeeld | C43: 380 | D43: 300 | E43: 50 | F43: 10 | G43: 20
A48: Hier rijen invoegen
A49: Totalen | C49: =SUM(C42:C48) -> 380 | D49: =SUM(D42:D48) -> 300 | E49: =SUM(E42:E48) -> 50 | F49: =SUM(F42:F48) -> 10 | G49: =SUM(G42:G48) -> 20
A50: Check | C50: =SUM(D49:G49) -> 380
C51: =C49-C50 -> 0
